Workbook

Sheet 사용방법
A1: < 데이터베이스 구축비 산정 프로그램 사용방법>
A2: KOSA, 2020. 06. 19.
A4: 1. 자료 및 공정 유형에 따른 작업그룹(현대간행물, 고전적자료 등)에 해당하는 시트를 연다.
B5: - 현대간행물, 현대비도서편철문서, 고전적자료, 동영상, 음성, 전문 작업, 추가 작업
B7: 공정유형 자료유형 | C7: 일반공정 | E7: 전문공정 | F7: 기타공정
B8: 현대자료 | C8: 현대간행물 작업그룹[A1] | E8: 전문 작업그룹[B1] | F8: 추가 작업정의[C1]
C9: 현대비도서편철문서 작업그룹[A2]
B10: 고전적자료 | C10: 고전적자료 작업그룹[A3]
B11: 멀티미디어자료 | C11: 동영상 작업그룹[A4]
C12: 음성 작업그룹[A5]
A14: 2. 현대간행물, 고전적자료, 현대비도서편철문서, 전문공정, 동영상, 음성의 각 표에 대하여 다음을 수행한다.
B15: - 각 DB유형별로 해당되는 작업요소와 적합한 보정요소를 식별한다.
B16: - 식별된 작업요소와 적합한 보정요소에 해당하는 행을 선택하고 노란색 셀에 해당 내용을 입력한다.
B17: * 작업요소의 보정유형별 분량을 입력한다.
D18: 면
B19: * (검증횟수가 있는 경우) 검증횟수
C20: 1회 검증
B21: * ('고전적자료'에서 신출/이체자 처리 선택) 신출/이체자 처리 콤보박스에서 선택
C22: 5%미만의 신출자/이체자 처리
B23: - 해당되는 작업요소와 보정요소 및 계산된 계수 및 공수 등의 정보가 보라색으로 표현된다
B24: - 값이 입력되면 공수 및 금액이 자동 계산된다.
A26: 3. DB대가에 정의되지 않은 추가공정이 있는 경우 추가공정 표에 대하여 다음을 수행한다.
B27: - 10번행 이후의 빈 양식에 순번/작업요소명/작업자등급/소요공수를 입력한다.
B28: * 소요공수는 Man-Day(MD), 인건비 단가는 일단가를 기준으로 한다.
B29: * 필요시 비고란을 활용한다.
B30: - 값이 입력되면 추가공정 집계표에 공수 및 금액이 자동 계산된다.
A32: 4. 각 표에서 값이 입력되면 산출내역총괄표가 자동 생성된다.
B33: - 산출내역총괄표에서 제경비율, 직접경비, 이윤비율을 입력하면 최종 사업비가 산출된다.
A35: 5. 인건비와 관련하여 "표-인건비"는 최신 인건비 단가로 현행화하여 적용해야 한다.

Sheet 산출내역총괄표
A1: 산출내역 총괄표
A3: (총괄표의 노란색 부분만 기입. 회색부분은 다른 세부내역을 작성하면 자동으로 작성됨)
A4: 직접인건비 | B4: 구분 | E4: 소요공수(MD) | F4: 금 액(원) | G4: 비 고
B5: [A1] 현대간행물 일반공정 | E5: ='A1 현대간행물'!N96+'A1 현대간행물'!N97 -> 0 | F5: ='A1 현대간행물'!K98 -> 0
B6: [A2] 현대비도서편철문서 일반공정 | E6: ='A2 현대비도서편철문서'!N23 -> 0 | F6: ='A2 현대비도서편철문서'!K24 -> 0
B7: [A3] 고전적자료 일반공정 | E7: =SUM('A3 고전적자료'!O67:O68) -> 0 | F7: ='A3 고전적자료'!L69 -> 0
B8: [A4] 동영상 일반공정 | E8: ='A4 동영상'!N11 -> 0 | F8: ='A4 동영상'!K12 -> 0
B9: [A5] 음성 일반공정 | E9: ='A5 음성'!N8 -> 0 | F9: ='A5 음성'!K9 -> 0
B10: [B1] 전문 작업공정 | E10: ='B1 전문작업'!N13+'B1 전문작업'!N14 -> 0 | F10: ='B1 전문작업'!K15 -> 0
B11: [C1] 추가 작업공정 | E11: ='C1 추가작업'!C3 -> 0 | F11: ='C1 추가작업'!E5 -> 0
B12: 소계 | E12: =SUM(E5:E11) -> 0 | F12: =SUM(F5:F11) -> 0
A13: 제경비, 직접경비, 이윤 | B13: 구분 | E13: 적용률 | F13: 금액
B14: 제 경 비 | E14: =F25 -> 0.2 | F14: =IFERROR(F12*E14,0) -> 0 | G14: 제경비율은 76% 이내
B15: 직접경비 | E15: - | F15: =F41 -> 0 | G15: 직접경비 산출의 합
B16: 이 윤 | E16: 0.1 | F16: =(F12+F14)*E16 -> 0 | G16: 10% 이내
A17: 소 계 | F17: =SUM(F12:F16) -> 0
A18: 부가세 | F18: =F17*10% -> 0
A19: 총 계 | F19: =SUM(F17:F18) -> 0
A21: [제경비] 산출식
A22: 구분 | F22: 제경비율 | G22: 비고
A23: 순제경비 율 | F23: 0.2 | G23: 순제경비율 직접 입력
A24: 프로젝트 관리 인건비 제경비율 | F24: =G33 -> 0
A25: 제경비 합 | F25: =IF((F23+F24)>76%,76%,(F23+F24)) -> 0.2 | G25: 제경비 합이 76%를 초과할 경우, 76%로 조정됨
A27: 프로젝트 관리자 인건비 계산식(아래 값은 예시임, 행을 복사하여 추가할 수 있음)
A28: 역할 | B28: 투입직무 | C28: 월 임금(원) | D28: 투입 (MM) | E28: 투입률 | F28: 금액(원) | G28: 제경비율 | H28: 비고
A29: PM | B29: IT프로젝트관리 | C29: 8596776 | D29: 1 | E29: 0.01 | F29: =PRODUCT(C29:E29) -> 85967.76 | G29: =IFERROR(F29/$F$12,0) -> 0
A30: QM | B30: IT품질관리 | C30: 9160554 | D30: 1 | E30: 0.01 | F30: =PRODUCT(C30:E30) -> 91605.54 | G30: =IFERROR(F30/$F$12,0) -> 0
F31: 0 | G31: =IFERROR(F31/$F$12,0) -> 0
F32: =PRODUCT(C32:E32) -> 0 | G32: =IFERROR(F32/$F$12,0) -> 0
A33: 합계 | F33: =SUM(F29:F32) -> 177573.3 | G33: =SUM(G29:G32) -> 0
A35: [직접경비] 산출식
A36: 항목 | D36: 수량 | E36: 단가 | F36: 금액 | G36: 비고
F37: =D37*E37 -> 0
F38: =D38*E38 -> 0
F39: =D39*E39 -> 0
F40: =D40*E40 -> 0
A41: 직접경비 합 | F41: =SUM(F37:F40) -> 0

Sheet A1 현대간행물
A1: 작업요소 | B1: 작업대상분량 | D1: 1일작업량 | F1: 작업자기준 | G1: 일인건비기준 | H1: 보정요소 | K1: 보정유형별 분량 | M1: 적용 보정계수 | N1: 소요공수 | P1: 인건비
N2: 보정유형별 | O2: 소계(작업요소별) | P2: 보정유형별 | Q2: 소계(작업요소별)
A3: 자료 반/출입 및 관리 | B3: =SUM(K3:K6) -> 0 | C3: 권 | D3: 68 | E3: 권/일 | F3: 전문작업자(다) | G3: =M96 -> 160707.95 | H3: 자료집중 | I3: 목록보유 | L3: 권 | M3: ='표-A1'!H5 -> 1 | N3: =K3/D3*M3 -> 0 | O3: =SUM(N3:N6) -> 0 | P3: =N3*G3 -> 0 | Q3: =SUM(P3:P6) -> 0
I4: 목록미보유 | L4: 권 | M4: ='표-A1'!H6 -> 2 | N4: =K4/D3*M4 -> 0 | P4: =N4*G3 -> 0
H5: 자료분산 | I5: 목록보유 | L5: 권 | M5: ='표-A1'!H7 -> 2.97 | N5: =K5/D3*M5 -> 0 | P5: =N5*G3 -> 0
I6: 목록미보유 | L6: 권 | M6: ='표-A1'!H8 -> 4 | N6: =K6/D3*M6 -> 0 | P6: =N6*G3 -> 0
A7: 일반스캔 | B7: =SUM(K7:K15) -> 0 | C7: 면 | D7: 7554 | E7: 면/일 | F7: 전문작업자(다) | G7: =M96 -> 160707.95 | H7: A4 이하 | I7: 권당 250면 초과 | L7: 면 | M7: ='표-A1'!H9 -> 1 | N7: =K7/D$7*M7 -> 0 | O7: =SUM(N7:N15) -> 0 | P7: =N7*G$7 -> 0 | Q7: =SUM(P7:P15) -> 0
I8: 권당 151면~250면 이하 | L8: 면 | M8: ='표-A1'!H10 -> 1.24 | N8: =K8/D$7*M8 -> 0 | P8: =N8*G$7 -> 0
I9: 권당 150면 이하 | L9: 면 | M9: ='표-A1'!H11 -> 1.89 | N9: =K9/D$7*M9 -> 0 | P9: =N9*G$7 -> 0
H10: A4 초과 B4이하 도서 | I10: 권당 250면 초과 | L10: 면 | M10: ='표-A1'!H12 -> 1.89 | N10: =K10/D$7*M10 -> 0 | P10: =N10*G$7 -> 0
I11: 권당 151면~250면 이하 | L11: 면 | M11: ='표-A1'!H13 -> 2.34 | N11: =K11/D$7*M11 -> 0 | P11: =N11*G$7 -> 0
I12: 권당 150면 이하 | L12: 면 | M12: ='표-A1'!H14 -> 3.43 | N12: =K12/D$7*M12 -> 0 | P12: =N12*G$7 -> 0
H13: B4 초과 A3이하 도서 | I13: 권당 250면 초과 | L13: 면 | M13: ='표-A1'!H15 -> 2.31 | N13: =K13/D$7*M13 -> 0 | P13: =N13*G$7 -> 0
I14: 권당 151면~250면 이하 | L14: 면 | M14: ='표-A1'!H16 -> 2.84 | N14: =K14/D$7*M14 -> 0 | P14: =N14*G$7 -> 0
I15: 권당 150면 이하 | L15: 면 | M15: ='표-A1'!H17 -> 4.09 | N15: =K15/D$7*M15 -> 0 | P15: =N15*G$7 -> 0
A16: 낱장스캔 | B16: =SUM(K16:K25) -> 0 | C16: 면 | D16: 1638 | E16: 면/일 | F16: 전문작업자(다) | G16: =M96 -> 160707.95 | H16: 보통 | I16: 균일 | J16: 배지없음 | L16: 면 | M16: ='표-A1'!H18 -> 1 | N16: =K16/D$16*M16 -> 0 | O16: =SUM(N16:N21) -> 0 | P16: =N16*G$16 -> 0 | Q16: =SUM(P16:P25) -> 0
I17: 비균일 | J17: 배지없음 | L17: 면 | M17: ='표-A1'!H19 -> 3.54 | N17: =K17/D$16*M17 -> 0 | P17: =N17*G$16 -> 0
H18: 보통 | I18: 균일 | J18: 배지없음 | L18: 면 | M18: ='표-A1'!H20 -> 1.13 | N18: =K18/D$16*M18 -> 0 | P18: =N18*G$16 -> 0
J19: 배지필요 | L19: 면 | M19: ='표-A1'!H21 -> 1.6 | N19: =K19/D$16*M19 -> 0 | P19: =N19*G$16 -> 0
I20: 비균일 | J20: 배지없음 | L20: 면 | M20: ='표-A1'!H22 -> 6.14 | N20: =K20/D$16*M20 -> 0 | P20: =N20*G$16 -> 0
J21: 배지필요 | L21: 면 | M21: ='표-A1'!H23 -> 8.72 | N21: =K21/D$16*M21 -> 0 | P21: =N21*G$16 -> 0
F22: 전문작업자(가) | G22: =M97 -> 320539.77 | H22: 매우복잡 | I22: 균일 | J22: 배지없음 | L22: 면 | M22: ='표-A1'!H24 -> 3.93 | N22: =K22/D$16*M22 -> 0 | O22: =SUM(N22:N25) -> 0 | P22: =N22*G$22 -> 0
J23: 배지필요 | L23: 면 | M23: ='표-A1'!H25 -> 5.58 | N23: =K23/D$16*M23 -> 0 | P23: =N23*G$22 -> 0
I24: 비균일 | J24: 배지없음 | L24: 면 | M24: ='표-A1'!H26 -> 8.77 | N24: =K24/D$16*M24 -> 0 | P24: =N24*G$22 -> 0
J25: 배지필요 | L25: 면 | M25: ='표-A1'!H27 -> 12.45 | N25: =K25/D$16*M25 -> 0 | P25: =N25*G$22 -> 0
A26: 이미지 보정 및 검증 | B26: =SUM(K26:K29) -> 0 | C26: 면 | D26: 2216 | E26: 면/일 | F26: 전문작업자(다) | G26: =M96 -> 160707.95 | H26: 보통 | I26: 흑백 | J26: 1 | L26: 면 | M26: =IF(J26=1,'표-A1'!H28,IF(J26=2,'표-A1'!I28,IF(J26=3,'표-A1'!J28,"err"))) -> 1 | N26: =K26/D$26*M26 -> 0 | O26: =SUM(N26:N29) -> 0 | P26: =N26*G$26 -> 0 | Q26: =SUM(P26:P29) -> 0
I27: 컬러 | J27: 1 | L27: 면 | M27: =IF(J27=1,'표-A1'!H29,IF(J27=2,'표-A1'!I29,IF(J27=3,'표-A1'!J29,"err"))) -> 2.31 | N27: =K27/D$26*M27 -> 0 | P27: =N27*G$26 -> 0
H28: 복잡 | J28: 1 | L28: 면 | M28: =IF(J28=1,'표-A1'!H30,IF(J28=2,'표-A1'!I30,IF(J28=3,'표-A1'!J30,"err"))) -> 9.58 | N28: =K28/D$26*M28 -> 0 | P28: =N28*G$26 -> 0
H29: 매우복잡 | J29: 1 | L29: 면 | M29: =IF(J29=1,'표-A1'!H31,IF(J29=2,'표-A1'!I31,IF(J29=3,'표-A1'!J31,"err"))) -> 14.16 | N29: =K29/D$26*M29 -> 0 | P29: =N29*G$26 -> 0
A30: 메타데이터 추출, 입력 및 검증 | B30: =SUM(K30:K47) -> 0 | C30: 편 | D30: 50 | E30: 편/일 | F30: 전문작업자(다) | G30: =M96 -> 160707.95 | H30: 단순 | I30: 한국어 | J30: 1 | L30: 편 | M30: =IF(J30=1,'표-A1'!H32,IF(J30=2,'표-A1'!I32,IF(J30=3,'표-A1'!J32,"err"))) -> 0.62 | N30: =K30/D$30*M30 -> 0 | O30: =SUM(N30:N47) -> 0 | P30: =N30*G$30 -> 0 | Q30: =SUM(P30:P47) -> 0
I31: 한자 | J31: 1 | L31: 편 | M31: =IF(J31=1,'표-A1'!H33,IF(J31=2,'표-A1'!I33,IF(J31=3,'표-A1'!J33,"err"))) -> 1.24 | N31: =K31/D$30*M31 -> 0 | P31: =N31*G$30 -> 0
I32: 영어 | J32: 1 | L32: 편 | M32: =IF(J32=1,'표-A1'!H34,IF(J32=2,'표-A1'!I34,IF(J32=3,'표-A1'!J34,"err"))) -> 1.24 | N32: =K32/D$30*M32 -> 0 | P32: =N32*G$30 -> 0
I33: 일본어 | J33: 1 | L33: 편 | M33: =IF(J33=1,'표-A1'!H35,IF(J33=2,'표-A1'!I35,IF(J33=3,'표-A1'!J35,"err"))) -> 1.24 | N33: =K33/D$30*M33 -> 0 | P33: =N33*G$30 -> 0
I34: 중국어 | J34: 1 | L34: 편 | M34: =IF(J34=1,'표-A1'!H36,IF(J34=2,'표-A1'!I36,IF(J34=3,'표-A1'!J36,"err"))) -> 1.86 | N34: =K34/D$30*M34 -> 0 | P34: =N34*G$30 -> 0
I35: 기타외국어 | J35: 1 | L35: 편 | M35: =IF(J35=1,'표-A1'!H37,IF(J35=2,'표-A1'!I37,IF(J35=3,'표-A1'!J37,"err"))) -> 1.86 | N35: =K35/D$30*M35 -> 0 | P35: =N35*G$30 -> 0
H36: 보통 | I36: 한국어 | J36: 1 | L36: 편 | M36: =IF(J36=1,'표-A1'!H38,IF(J36=2,'표-A1'!I38,IF(J36=3,'표-A1'!J38,"err"))) -> 1 | N36: =K36/D$30*M36 -> 0 | P36: =N36*G$30 -> 0
I37: 한자 | J37: 1 | L37: 편 | M37: =IF(J37=1,'표-A1'!H39,IF(J37=2,'표-A1'!I39,IF(J37=3,'표-A1'!J39,"err"))) -> 2 | N37: =K37/D$30*M37 -> 0 | P37: =N37*G$30 -> 0
I38: 영어 | J38: 1 | L38: 편 | M38: =IF(J38=1,'표-A1'!H40,IF(J38=2,'표-A1'!I40,IF(J38=3,'표-A1'!J40,"err"))) -> 2 | N38: =K38/D$30*M38 -> 0 | P38: =N38*G$30 -> 0
I39: 일본어 | J39: 1 | L39: 편 | M39: =IF(J39=1,'표-A1'!H41,IF(J39=2,'표-A1'!I41,IF(J39=3,'표-A1'!J41,"err"))) -> 2 | N39: =K39/D$30*M39 -> 0 | P39: =N39*G$30 -> 0
I40: 중국어 | J40: 1 | L40: 편 | M40: =IF(J40=1,'표-A1'!H42,IF(J40=2,'표-A1'!I42,IF(J40=3,'표-A1'!J42,"err"))) -> 3 | N40: =K40/D$30*M40 -> 0 | P40: =N40*G$30 -> 0
...

Sheet A2 현대비도서편철문서
A1: 작업요소 | B1: 작업대상분량 | D1: 1일작업량 | F1: 작업자기준 | G1: 일인건비기준 | H1: 보정요소 | K1: 보정유형별 분량 | M1: 적용 보정계수 | N1: 소요공수 | P1: 인건비
N2: 보정유형별 | O2: 소계(작업요소별) | P2: 보정유형별 | Q2: 소계(작업요소별)
A3: 자료 반출 및 문서정리 | B3: =SUM(K3:K4) -> 0 | C3: 면 | D3: 2233 | E3: 면/일 | F3: 전문작업자(다) | G3: =M23 -> 160707.95 | H3: 보통 | L3: 면 | M3: ='표-A2'!F3 -> 1 | N3: =K3/D3*M3 -> 0 | O3: =SUM(N3:N4) -> 0 | P3: =N3*G3 -> 0 | Q3: =SUM(P3:P4) -> 0
H4: 복잡 | L4: 면 | M4: ='표-A2'!F4 -> 2.84 | N4: =K4/D3*M4 -> 0 | P4: =N4*G3 -> 0
A5: 문서색인 추출, 입력, 연결 및 검증 | B5: =SUM(K5:K16) -> 0 | C5: 건 | D5: 224 | E5: 건/일 | F5: 전문작업자(다) | G5: =M23 -> 160707.95 | H5: 보통 | I5: 한국어 | L5: 건 | M5: ='표-A2'!F5 -> 1 | N5: =K5/D$5*M5 -> 0 | O5: =SUM(N5:N16) -> 0 | P5: =N5*G$5 -> 0 | Q5: =SUM(P5:P16) -> 0
I6: 한자 | L6: 건 | M6: ='표-A2'!F6 -> 2 | N6: =K6/D$5*M6 -> 0 | P6: =N6*G$5 -> 0
I7: 영어 | L7: 건 | M7: ='표-A2'!F7 -> 2 | N7: =K7/D$5*M7 -> 0 | P7: =N7*G$5 -> 0
I8: 일본어 | L8: 건 | M8: ='표-A2'!F8 -> 2 | N8: =K8/D$5*M8 -> 0 | P8: =N8*G$5 -> 0
I9: 중국어 | L9: 건 | M9: ='표-A2'!F9 -> 3 | N9: =K9/D$5*M9 -> 0 | P9: =N9*G$5 -> 0
I10: 기타외국어 | L10: 건 | M10: ='표-A2'!F10 -> 3 | N10: =K10/D$5*M10 -> 0 | P10: =N10*G$5 -> 0
H11: 복잡 | I11: 한국어 | L11: 건 | M11: ='표-A2'!F11 -> 1.5 | N11: =K11/D$5*M11 -> 0 | P11: =N11*G$5 -> 0
I12: 한자 | L12: 건 | M12: ='표-A2'!F12 -> 3 | N12: =K12/D$5*M12 -> 0 | P12: =N12*G$5 -> 0
I13: 영어 | L13: 건 | M13: ='표-A2'!F13 -> 3 | N13: =K13/D$5*M13 -> 0 | P13: =N13*G$5 -> 0
I14: 일본어 | L14: 건 | M14: ='표-A2'!F14 -> 3 | N14: =K14/D$5*M14 -> 0 | P14: =N14*G$5 -> 0
I15: 중국어 | L15: 건 | M15: ='표-A2'!F15 -> 4.5 | N15: =K15/D$5*M15 -> 0 | P15: =N15*G$5 -> 0
I16: 기타외국어 | L16: 건 | M16: ='표-A2'!F16 -> 4.5 | N16: =K16/D$5*M16 -> 0 | P16: =N16*G$5 -> 0
A17: 스캔 및 점검 | B17: =SUM(K17:K19) -> 0 | C17: 면 | D17: 2180 | E17: 면/일 | F17: 전문작업자(다) | G17: =M23 -> 160707.95 | H17: 일반문서(기울기 등 단순보정) | L17: 면 | M17: ='표-A2'!F17 -> 1 | N17: =K17/D$17*M17 -> 0 | O17: =SUM(N17:N19) -> 0 | P17: =N17*G$17 -> 0 | Q17: =SUM(P17:P19) -> 0
H18: 일반문서(잡티, 펀치홀 제거 등) | L18: 면 | M18: ='표-A2'!F18 -> 1.32 | N18: =K18/D$17*M18 -> 0 | P18: =N18*G$17 -> 0
H19: 복잡(도면) | L19: 면 | M19: ='표-A2'!F19 -> 6.75 | N19: =K19/D$17*M19 -> 0 | P19: =N19*G$17 -> 0
A20: 문서최종점검 | B20: =SUM(K20:K20) -> 0 | C20: 건 | D20: 546 | E20: 건/일 | F20: 전문작업자(다) | G20: =M23 -> 160707.95 | H20: (보정요소 없음) | L20: 건 | M20: ='표-A2'!F20 -> 1 | N20: =K20/D$20*M20 -> 0 | O20: =SUM(N20:N20) -> 0 | P20: =N20*G$20 -> 0 | Q20: =SUM(P20:P20) -> 0
A21: 재편철 및 서가배치 | B21: =SUM(K21:K22) -> 0 | C21: 면 | D21: 10797 | E21: 면/일 | F21: 전문작업자(다) | G21: =M23 -> 160707.95 | H21: 보통 | L21: 면 | M21: ='표-A2'!F21 -> 1 | N21: =K21/D$21*M21 -> 0 | O21: =SUM(N21:N22) -> 0 | P21: =N21*G$21 -> 0 | Q21: =SUM(P21:P22) -> 0
H22: 복잡 | L22: 면 | M22: ='표-A2'!F22 -> 5.24 | N22: =K22/D$21*M22 -> 0 | P22: =N22*G$21 -> 0
A23: 현대비도서편철문서 일반공정 소요공수 | K23: 전문작업자(다) | M23: ='표-인건비'!D6 -> 160707.95 | N23: =SUM(N3:N22) -> 0 | O23: MD | P23: =SUM(P3:P22) -> 0 | Q23: 원
A24: 현대비도서편철문서 일반공정 인건비 합계 | K24: =SUM(P23:P23) -> 0 | Q24: 원

Sheet A3 고전적자료
A1: 작업요소 | B1: 작업대상분량 | D1: 1일작업량 | F1: 작업자기준 | G1: 일인건비기준 | H1: 보정요소 | L1: 보정유형별 분량 | N1: 적용 보정계수 | O1: 소요공수 | Q1: 인건비
O2: 보정유형별 | P2: 소계(작업요소별) | Q2: 보정유형별 | R2: 소계(작업요소별)
A3: 자료 반/출입 및 관리 | B3: =SUM(L3:L6) -> 0 | C3: 책 | D3: 9 | E3: 책/일 | F3: 전문작업자(다) | G3: =N68 -> 160707.95 | H3: 자료집중 | I3: 목록보유 | M3: 책 | N3: ='표-A3'!I5 -> 1 | O3: =L3/D3*N3 -> 0 | P3: =SUM(O3:O6) -> 0 | Q3: =O3*G3 -> 0 | R3: =SUM(Q3:Q6) -> 0
I4: 목록미보유 | M4: 책 | N4: ='표-A3'!I6 -> 2.15 | O4: =L4/D3*N4 -> 0 | Q4: =O4*G3 -> 0
H5: 자료분산 | I5: 목록보유 | M5: 책 | N5: ='표-A3'!I7 -> 3.78 | O5: =L5/D3*N5 -> 0 | Q5: =O5*G3 -> 0
I6: 목록미보유 | M6: 책 | N6: ='표-A3'!I8 -> 6.68 | O6: =L6/D3*N6 -> 0 | Q6: =O6*G3 -> 0
A7: 일반스캔 | B7: =SUM(L7:L15) -> 0 | C7: 면 | D7: 7554 | E7: 면/일 | F7: 전문작업자(다) | G7: =N68 -> 160707.95 | H7: A4 이하 | I7: 권당 250면 초과 | M7: 면 | N7: ='표-A3'!I9 -> 1 | O7: =L7/D$7*N7 -> 0 | P7: =SUM(O7:O15) -> 0 | Q7: =O7*G$7 -> 0 | R7: =SUM(Q7:Q15) -> 0
I8: 권당 151면~250면 이하 | M8: 면 | N8: ='표-A3'!I10 -> 1.24 | O8: =L8/D$7*N8 -> 0 | Q8: =O8*G$7 -> 0
I9: 권당 150면 이하 | M9: 면 | N9: ='표-A3'!I11 -> 1.89 | O9: =L9/D$7*N9 -> 0 | Q9: =O9*G$7 -> 0
H10: A4 초과 B4이하 도서 | I10: 권당 250면 초과 | M10: 면 | N10: ='표-A3'!I12 -> 1.89 | O10: =L10/D$7*N10 -> 0 | Q10: =O10*G$7 -> 0
I11: 권당 151면~250면 이하 | M11: 면 | N11: ='표-A3'!I13 -> 2.34 | O11: =L11/D$7*N11 -> 0 | Q11: =O11*G$7 -> 0
I12: 권당 150면 이하 | M12: 면 | N12: ='표-A3'!I14 -> 3.43 | O12: =L12/D$7*N12 -> 0 | Q12: =O12*G$7 -> 0
H13: B4 초과 A3이하 도서 | I13: 권당 250면 초과 | M13: 면 | N13: ='표-A3'!I15 -> 2.31 | O13: =L13/D$7*N13 -> 0 | Q13: =O13*G$7 -> 0
I14: 권당 151면~250면 이하 | M14: 면 | N14: ='표-A3'!I16 -> 2.84 | O14: =L14/D$7*N14 -> 0 | Q14: =O14*G$7 -> 0
I15: 권당 150면 이하 | M15: 면 | N15: ='표-A3'!I17 -> 4.09 | O15: =L15/D$7*N15 -> 0 | Q15: =O15*G$7 -> 0
A16: 낱장스캔 | B16: =SUM(L16:L25) -> 0 | C16: 면 | D16: 1638 | E16: 면/일 | F16: 전문작업자(다) | G16: =N68 -> 160707.95 | H16: 보통 | I16: 균일 | J16: 배지없음 | M16: 면 | N16: ='표-A3'!I18 -> 1 | O16: =L16/D$16*N16 -> 0 | P16: =SUM(O16:O21) -> 0 | Q16: =O16*G$16 -> 0 | R16: =SUM(Q16:Q25) -> 0
I17: 비균일 | J17: 배지없음 | M17: 면 | N17: ='표-A3'!I19 -> 3.54 | O17: =L17/D$16*N17 -> 0 | Q17: =O17*G$16 -> 0
H18: 보통 | I18: 균일 | J18: 배지없음 | M18: 면 | N18: ='표-A3'!I20 -> 1.13 | O18: =L18/D$16*N18 -> 0 | Q18: =O18*G$16 -> 0
J19: 배지필요 | M19: 면 | N19: ='표-A3'!I21 -> 1.6 | O19: =L19/D$16*N19 -> 0 | Q19: =O19*G$16 -> 0
I20: 비균일 | J20: 배지없음 | M20: 면 | N20: ='표-A3'!I22 -> 6.14 | O20: =L20/D$16*N20 -> 0 | Q20: =O20*G$16 -> 0
J21: 배지필요 | M21: 면 | N21: ='표-A3'!I23 -> 8.72 | O21: =L21/D$16*N21 -> 0 | Q21: =O21*G$16 -> 0
F22: 전문작업자(가) | G22: =N67 -> 320539.77 | H22: 매우복잡 | I22: 균일 | J22: 배지없음 | M22: 면 | N22: ='표-A3'!I24 -> 3.93 | O22: =L22/D$16*N22 -> 0 | P22: =SUM(O22:O25) -> 0 | Q22: =O22*G$22 -> 0
J23: 배지필요 | M23: 면 | N23: ='표-A3'!I25 -> 5.58 | O23: =L23/D$16*N23 -> 0 | Q23: =O23*G$22 -> 0
I24: 비균일 | J24: 배지없음 | M24: 면 | N24: ='표-A3'!I26 -> 8.77 | O24: =L24/D$16*N24 -> 0 | Q24: =O24*G$22 -> 0
J25: 배지필요 | M25: 면 | N25: ='표-A3'!I27 -> 12.45 | O25: =L25/D$16*N25 -> 0 | Q25: =O25*G$22 -> 0
A26: 이미지 보정 및 검증 | B26: =SUM(L26:L29) -> 0 | C26: 면 | D26: 2216 | E26: 면/일 | F26: 전문작업자(다) | G26: =N68 -> 160707.95 | H26: 보통 | I26: 흑백 | J26: 1 | M26: 면 | N26: =IF(J26=1,'표-A3'!I28,IF(J26=2,'표-A3'!J28,IF(J26=3,'표-A3'!K28,"err"))) -> 1 | O26: =L26/D$26*N26 -> 0 | P26: =SUM(O26:O29) -> 0 | Q26: =O26*G$26 -> 0 | R26: =SUM(Q26:Q29) -> 0
I27: 컬러 | J27: 1 | M27: 면 | N27: =IF(J27=1,'표-A3'!I29,IF(J27=2,'표-A3'!J29,IF(J27=3,'표-A3'!K29,"err"))) -> 2.31 | O27: =L27/D$26*N27 -> 0 | Q27: =O27*G$26 -> 0
H28: 복잡 | J28: 1 | M28: 면 | N28: =IF(J28=1,'표-A3'!I30,IF(J28=2,'표-A3'!J30,IF(J28=3,'표-A3'!K30,"err"))) -> 9.58 | O28: =L28/D$26*N28 -> 0 | Q28: =O28*G$26 -> 0
H29: 매우복잡 | J29: 1 | M29: 면 | N29: =IF(J29=1,'표-A3'!I31,IF(J29=2,'표-A3'!J31,IF(J29=3,'표-A3'!K31,"err"))) -> 14.16 | O29: =L29/D$26*N29 -> 0 | Q29: =O29*G$26 -> 0
A30: 메타데이터 추출, 입력 및 검증 | B30: =SUM(L30:L32) -> 0 | C30: 편 | D30: 39 | E30: 편/일 | F30: 전문작업자(다) | G30: =N68 -> 160707.95 | H30: 단순 | J30: 3 | M30: 편 | N30: =IF(J30=1,'표-A3'!I32,IF(J30=2,'표-A3'!J32,IF(J30=3,'표-A3'!K32,"err"))) -> 0.97 | O30: =L30/D$30*N30 -> 0 | P30: =SUM(O30:O32) -> 0 | Q30: =O30*G$30 -> 0 | R30: =SUM(Q30:Q32) -> 0
H31: 보통 | J31: 1 | M31: 편 | N31: =IF(J31=1,'표-A3'!I33,IF(J31=2,'표-A3'!J33,IF(J31=3,'표-A3'!K33,"err"))) -> 1 | O31: =L31/D$30*N31 -> 0 | Q31: =O31*G$30 -> 0
H32: 복잡 | J32: 3 | M32: 편 | N32: =IF(J32=1,'표-A3'!I34,IF(J32=2,'표-A3'!J34,IF(J32=3,'표-A3'!K34,"err"))) -> 2.74 | O32: =L32/D$30*N32 -> 0 | Q32: =O32*G$30 -> 0
A33: 목차입력 | B33: =SUM(L33:L33) -> 0 | C33: 자 | D33: 3031 | E33: 자/일 | F33: 전문작업자(다) | G33: =N68 -> 160707.95 | H33: (보정요소 없음) | M33: 자 | N33: ='표-A3'!I35 -> 1 | O33: =L33/D$33*N33 -> 0 | P33: =SUM(O33:O33) -> 0 | Q33: =O33*G$33 -> 0 | R33: =SUM(Q33:Q33) -> 0
A34: 목차링크 | B34: =SUM(L34:L34) -> 0 | C34: 건 | D34: 842 | E34: 건/일 | F34: 전문작업자(다) | G34: =N68 -> 160707.95 | H34: (보정요소 없음) | M34: 건 | N34: ='표-A3'!I36 -> 1 | O34: =L34/D34*N34 -> 0 | P34: =SUM(O34:O34) -> 0 | Q34: =O34*G34 -> 0 | R34: =SUM(Q34:Q34) -> 0
A35: 목차검증 | B35: =SUM(L35:L35) -> 0 | C35: 자 | D35: 2441 | E35: 자/일 | F35: 전문작업자(다) | G35: =N68 -> 160707.95 | H35: 1 | M35: 자 | N35: =IF(H35=1,'표-A3'!I37,IF(H35=2,'표-A3'!J37,IF(H35=3,'표-A3'!K37,"err"))) -> 1 | O35: =L35/D$35*N35 -> 0 | P35: =SUM(O35:O35) -> 0 | Q35: =O35*G$35 -> 0 | R35: =SUM(Q35:Q35) -> 0
A36: 원문입력 | B36: =SUM(L36:L43) -> 0 | C36: 자 | D36: 7353 | E36: 자/일 | F36: 전문작업자(다) | G36: =N68 -> 160707.95 | H36: 인쇄상태 보통 | I36: 해서체 | J36: 5%미만의 신출자/이체자 처리 | M36: 자 | N36: ='표-A3'!I38 -> 1 | O36: =L36/D$36*N36 -> 0 | P36: =SUM(O36:O43) -> 0 | Q36: =O36*G$36 -> 0 | R36: =SUM(Q36:Q43) -> 0
J37: 5%이상의 신출자/이체자 처리 | M37: 자 | N37: ='표-A3'!I39 -> 1.32 | O37: =L37/D$36*N37 -> 0 | Q37: =O37*G$36 -> 0
I38: 행서체 | J38: 5%미만의 신출자/이체자 처리 | M38: 자 | N38: ='표-A3'!I40 -> 1.53 | O38: =L38/D$36*N38 -> 0 | Q38: =O38*G$36 -> 0
J39: 5%이상의 신출자/이체자 처리 | M39: 자 | N39: ='표-A3'!I41 -> 2.02 | O39: =L39/D$36*N39 -> 0 | Q39: =O39*G$36 -> 0
H40: 인쇄상태 복잡 | I40: 해서체 | J40: 5%미만의 신출자/이체자 처리 | M40: 자 | N40: ='표-A3'!I42 -> 1.47 | O40: =L40/D$36*N40 -> 0 | Q40: =O40*G$36 -> 0
...

Sheet A4 동영상
A1: 작업요소 | B1: 작업대상분량 | D1: 1일작업량 | F1: 작업자기준 | G1: 일인건비기준 | H1: 보정요소 | K1: 보정유형별 분량 | M1: 적용 보정계수 | N1: 소요공수 | P1: 인건비
N2: 보정유형별 | O2: 소계(작업요소별) | P2: 보정유형별 | Q2: 소계(작업요소별)
A3: 자료관리 | B3: =SUM(K3:K3) -> 0 | C3: 편 | D3: 60 | E3: 편/일 | F3: 전문작업자(가) | G3: =M11 -> 320539.77 | H3: (보정요소 없음) | L3: 편 | M3: ='표-A4'!G4 -> 1 | N3: =K3/D3*M3 -> 0 | O3: =SUM(N3:N3) -> 0 | P3: =N3*G3 -> 0 | Q3: =SUM(P3:P3) -> 0
A4: 캡쳐링 | B4: =SUM(K4:K4) -> 0 | C4: 편 | D4: 7.22 | E4: 편/일 | F4: 전문작업자(가) | G4: =M11 -> 320539.77 | H4: (보정요소 없음) | L4: 편 | M4: ='표-A4'!G5 -> 1 | N4: =K4/D$4*M4 -> 0 | O4: =SUM(N4:N4) -> 0 | P4: =N4*G$4 -> 0 | Q4: =SUM(P4:P4) -> 0
A5: 편집 | B5: =SUM(K5:K6) -> 0 | C5: 편 | D5: 74.81 | E5: 편/일 | F5: 전문작업자(가) | G5: =M11 -> 320539.77 | H5: 편집 난이도 단순 | L5: 편 | M5: ='표-A4'!G6 -> 1 | N5: =K5/D$5*M5 -> 0 | O5: =SUM(N5:N6) -> 0 | P5: =N5*G$5 -> 0 | Q5: =SUM(P5:P6) -> 0
H6: 편집 난이도 복잡 | L6: 편 | M6: ='표-A4'!G7 -> 10.27 | N6: =K6/D$5*M6 -> 0 | P6: =N6*G$5 -> 0
A7: 렌더링 | B7: =SUM(K7:K7) -> 0 | C7: 편 | D7: 10.04 | E7: 편/일 | F7: 전문작업자(가) | G7: =M11 -> 320539.77 | H7: (보정요소 없음) | L7: 편 | M7: ='표-A4'!G8 -> 1 | N7: =K7/D$7*M7 -> 0 | O7: =SUM(N7:N7) -> 0 | P7: =N7*G$7 -> 0 | Q7: =SUM(P7:P7) -> 0
A8: 점검 | B8: =SUM(K8:K8) -> 0 | C8: 편 | D8: 10.81 | E8: 편/일 | F8: 전문작업자(가) | G8: =M11 -> 320539.77 | H8: (보정요소 없음) | L8: 편 | M8: ='표-A4'!G9 -> 1 | N8: =K8/D$8*M8 -> 0 | O8: =SUM(N8:N8) -> 0 | P8: =N8*G$8 -> 0 | Q8: =SUM(P8:P8) -> 0
A9: 파일변환 | B9: =SUM(K9:K10) -> 0 | C9: 편 | D9: 7.66 | E9: 편/일 | F9: 전문작업자(가) | G9: =M11 -> 320539.77 | H9: 매체유형 DV, SD | L9: 편 | M9: ='표-A4'!G10 -> 1 | N9: =K9/D$9*M9 -> 0 | O9: =SUM(N9:N10) -> 0 | P9: =N9*G$9 -> 0 | Q9: =SUM(P9:P10) -> 0
H10: 매체유형 HD | L10: 편 | M10: ='표-A4'!G11 -> 3.72 | N10: =K10/D$9*M10 -> 0 | P10: =N10*G$9 -> 0
A11: 동영상 일반공정 소요공수 | K11: 전문작업자(가) | M11: ='표-인건비'!D4 -> 320539.77 | N11: =SUM(N3:N10) -> 0 | O11: MD | P11: =SUM(P3:P10) -> 0 | Q11: 원
A12: 동영상 일반공정 인건비 합계 | K12: =SUM(P11:P11) -> 0 | Q12: 원

Sheet A5 음성
A1: 작업요소 | B1: 작업대상분량 | D1: 1일작업량 | F1: 작업자기준 | G1: 일인건비기준 | H1: 보정요소 | K1: 보정유형별 분량 | M1: 적용 보정계수 | N1: 소요공수 | P1: 인건비
N2: 보정유형별 | O2: 소계(작업요소별) | P2: 보정유형별 | Q2: 소계(작업요소별)
A3: 자료관리 | B3: =SUM(K3:K3) -> 0 | C3: 편 | D3: 60 | E3: 편/일 | F3: 전문작업자(가) | G3: =M8 -> 320539.77 | H3: (보정요소 없음) | L3: 편 | M3: ='표-A5'!G4 -> 1 | N3: =K3/D3*M3 -> 0 | O3: =SUM(N3:N3) -> 0 | P3: =N3*G3 -> 0 | Q3: =SUM(P3:P3) -> 0
A4: 캡쳐링 | B4: =SUM(K4:K5) -> 0 | C4: 편 | D4: 7.11 | E4: 편/일 | F4: 전문작업자(가) | G4: =M8 -> 320539.77 | H4: 매체유형 아날로그 | L4: 편 | M4: ='표-A5'!G5 -> 1 | N4: =K4/D$4*M4 -> 0 | O4: =SUM(N4:N5) -> 0 | P4: =N4*G$4 -> 0 | Q4: =SUM(P4:P5) -> 0
H5: 매체유형 디지털 | L5: 편 | M5: ='표-A5'!G6 -> 0.07 | N5: =K5/D$4*M5 -> 0 | P5: =N5*G$4 -> 0
A6: 편집 | B6: =SUM(K6:K6) -> 0 | C6: 편 | D6: 6.68 | E6: 편/일 | F6: 전문작업자(가) | G6: =M8 -> 320539.77 | H6: (보정요소 없음) | L6: 편 | M6: ='표-A5'!G7 -> 1 | N6: =K6/D$6*M6 -> 0 | O6: =SUM(N6:N6) -> 0 | P6: =N6*G$6 -> 0 | Q6: =SUM(P6:P6) -> 0
A7: 점검 | B7: =SUM(K7:K7) -> 0 | C7: 편 | D7: 7.46 | E7: 편/일 | F7: 전문작업자(가) | G7: =M8 -> 320539.77 | H7: (보정요소 없음) | L7: 편 | M7: ='표-A5'!G8 -> 1 | N7: =K7/D$7*M7 -> 0 | O7: =SUM(N7:N7) -> 0 | P7: =N7*G$7 -> 0 | Q7: =SUM(P7:P7) -> 0
A8: 음성 일반공정 소요공수 | K8: 전문작업자(가) | M8: ='표-인건비'!D4 -> 320539.77 | N8: =SUM(N3:N7) -> 0 | O8: MD | P8: =SUM(P3:P7) -> 0 | Q8: 원
A9: 음성 일반공정 인건비 합계 | K9: =SUM(P8:P8) -> 0 | Q9: 원

Sheet B1 전문작업
A1: 작업요소 | B1: 작업대상분량 | D1: 1일작업량 | F1: 작업자기준 | G1: 일인건비기준 | H1: 보정요소 | K1: 보정유형별 분량 | M1: 적용 보정계수 | N1: 소요공수 | P1: 인건비
N2: 보정유형별 | O2: 소계(작업요소별) | P2: 보정유형별 | Q2: 소계(작업요소별)
A3: 기사제목 생성 | B3: =SUM(K3:K4) -> 0 | C3: 건 | D3: 43 | E3: 건/일 | F3: 전문작업자(다) | G3: =M14 -> 160707.95 | H3: 기사분절이 명시적 | L3: 건 | M3: ='표-B1'!F4 -> 1 | N3: =K3/D$3*M3 -> 0 | O3: =SUM(N3:N4) -> 0 | P3: =N3*G3 -> 0 | Q3: =SUM(P3:P4) -> 0
F4: 전문작업자(나) | G4: =M13 -> 214269.93 | H4: 기사분절이 비명시적 | L4: 건 | M4: ='표-B1'!F5 -> 1.54 | N4: =K4/D$3*M4 -> 0 | P4: =N4*G4 -> 0
A5: 색인어 생성 | B5: =SUM(K5:K6) -> 0 | C5: 건 | D5: 484 | E5: 건/일 | F5: 전문작업자(다) | G5: =M14 -> 160707.95 | H5: 디지털 텍스트 유 (자료의 형태) | L5: 건 | M5: ='표-B1'!F6 -> 1 | N5: =K5/D$5*M5 -> 0 | O5: =SUM(N5:N6) -> 0 | P5: =N5*G5 -> 0 | Q5: =SUM(P5:P6) -> 0
H6: 디지털 텍스트 무 (자료의 형태) | L6: 건 | M6: ='표-B1'!F7 -> 2.18 | N6: =K6/D$5*M6 -> 0 | P6: =N6*G5 -> 0
A7: 해제생성 | B7: =SUM(K7:K7) -> 0 | C7: 매 | D7: 11 | E7: 매/일 | F7: 전문작업자(나) | G7: =M13 -> 214269.93 | H7: (보정요소 없음) | L7: 매 | M7: ='표-B1'!F8 -> 1 | N7: =K7/D$7*M7 -> 0 | O7: =SUM(N7:N7) -> 0 | P7: =N7*G7 -> 0 | Q7: =SUM(P7:P7) -> 0
A8: 탈초 (서체자료 판독) | B8: =SUM(K8:K9) -> 0 | C8: 자 | D8: 1738 | E8: 자/일 | F8: 전문작업자(다) | G8: =M14 -> 160707.95 | H8: 초서체 | L8: 자 | M8: ='표-B1'!F9 -> 1 | N8: =K8/D$8*M8 -> 0 | O8: =SUM(N8:N9) -> 0 | P8: =N8*G8 -> 0 | Q8: =SUM(P8:P9) -> 0
F9: 전문작업자(나) | G9: =M13 -> 214269.93 | H9: 어려운 초서체 | L9: 자 | M9: ='표-B1'!F10 -> 1.31 | N9: =K9/D$8*M9 -> 0 | P9: =N9*G9 -> 0
A10: 표점 | B10: =SUM(K10:K10) -> 0 | C10: 자 | D10: 6568 | E10: 자/일 | F10: 전문작업자(나) | G10: =M13 -> 214269.93 | H10: (보정요소 없음) | L10: 자 | M10: ='표-B1'!F11 -> 1 | N10: =K10/D$10*M10 -> 0 | O10: =SUM(N10:N10) -> 0 | P10: =N10*G10 -> 0 | Q10: =SUM(P10:P10) -> 0
A11: 주석 | B11: =SUM(K11:K11) -> 0 | C11: 건 | D11: 32 | E11: 건/일 | F11: 전문작업자(다) | G11: =M14 -> 160707.95 | H11: (보정요소 없음) | L11: 건 | M11: ='표-B1'!F12 -> 1 | N11: =K11/D$11*M11 -> 0 | O11: =SUM(N11:N11) -> 0 | P11: =N11*G11 -> 0 | Q11: =SUM(P11:P11) -> 0
A12: 원문 오류수정 | B12: =SUM(K12:K12) -> 0 | C12: 자 | D12: 11875 | E12: 자/일 | F12: 전문작업자(다) | G12: =M14 -> 160707.95 | H12: (보정요소 없음) | L12: 자 | M12: ='표-B1'!F13 -> 1 | N12: =K12/D$12*M12 -> 0 | O12: =SUM(N12:N12) -> 0 | P12: =N12*G12 -> 0 | Q12: =SUM(P12:P12) -> 0
A13: 전문작업 일반공정 소요공수 | K13: 전문작업자(나) | M13: ='표-인건비'!D5 -> 214269.93 | N13: =SUM(N4,N7,N9:N10) -> 0 | O13: MD | P13: =SUM(P4,P7,P9:P10) -> 0 | Q13: 원
K14: 전문작업자(다) | M14: ='표-인건비'!D6 -> 160707.95 | N14: =SUM(N3,N5:N6,N8,N11:N12) -> 0 | O14: MD | P14: =SUM(P3,P5:P6,P8,P11:P12) -> 0 | Q14: 원
A15: 전문작업 일반공정 인건비 합계 | K15: =SUM(P13:P14) -> 0 | Q15: 원

Sheet C1 추가작업
A1: 추가공정 집계표
A2: 구분 | C2: 소요공수(계) | E2: 금액
A3: 공수기준 | C3: =H21 -> 0 | D3: MD | E3: =I21 -> 0 | H3: 원
A4: 단가기준 | C4: - | E4: =I31 -> 0 | H4: 원
A5: 합계 | C5: - | E5: =SUM(E3:G4) -> 0 | H5: 원
A6: *위의 집계표는 아래의 세부내역을 작성하면 자동으로 계산됨
A8: <추가공정 세부내역 > | C8: * 필요에 따라 칸을 복사하여 사용 (아래에 기입된 값은 예시임)
A9: o 공수 기준
A10: 순번 | B10: 작업요소명 | C10: 작업자등급 | D10: 단가(일단가) | E10: 대상물량 | F10: 기초공수 | G10: 보정계수 | H10: 소요공수(MD) | I10: 금액(원) | J10: 비고
A11: 1 | B11: 자료 수집 | C11: 전문작업자(나) | D11: ='표-인건비'!D5 -> 214269.93 | E11: 0 | F11: 100 | G11: 1 | H11: =E11/F11*G11 -> 0 | I11: =D11*H11 -> 0
A12: 2 | B12: 현지 조사 | C12: 전문작업자(가) | D12: ='표-인건비'!D4 -> 320539.77 | E12: 0 | F12: 5 | G12: 1 | H12: =E12/F12*G12 -> 0 | I12: =D12*H12 -> 0
A13: 3
A14: 4
A15: 5
A16: 6
A17: 7
A18: 8
A19: 9
A20: 10
A21: 합계 | H21: =SUM(H11:H20) -> 0 | I21: =SUM(I11:I20) -> 0
A23: o 단가 기준
A24: 순번 | B24: 단가 기준 | D24: 대상물량 | G24: 단위 | H24: 단가(원) | I24: 금액(원) | J24: 비고
A25: 1 | B25: 번역 | G25: 매(200자) | H25: 15000 | I25: =D25*H25 -> 0 | J25: 감수료 별도
A26: 2 | B26: 현장촬영 | G26: 컷 | H26: 3000 | I26: =D26*H26 -> 0 | J26: 장소 당 10컷 이하
A27: 3 | I27: 0
A28: 4 | I28: 0
A29: 5 | I29: 0
A30: 6 | I30: 0
A31: 합계 | I31: =SUM(I25:I30) -> 0

Sheet 표-A1
A1: [현대간행물 작업그룹] 작업요소별 보정계수
A3: 순번 | B3: 작업요소 | C3: 1일 작업량 | D3: 작업자등급 | E3: 보정요소 | H3: 보정계수(검증횟수)
H4: 1회 | I4: 2회 | J4: 3회
A5: A1-1 | B5: 자료 반출입 및 관리 | C5: 68 | D5: 자료입력원 | E5: 자료집중 | F5: 목록 보유 | H5: 1
F6: 목록 미보유 | H6: 2
E7: 자료분산 | F7: 목록 보유 | H7: 2.97
F8: 목록 미보유 | H8: 4
A9: A1-2 | B9: 일괄스캔 | C9: 7554 | D9: 자료입력원 | E9: A4 이하 | F9: 권당 250면 초과 | H9: 1
F10: 권당 151면~250면 이하 | H10: 1.24
F11: 권당 150면 이하 | H11: 1.89
E12: A4초과 B4이하 도서 | F12: 권당 250면 초과 | H12: 1.89
F13: 권당 151면~250면 이하 | H13: 2.34
F14: 권당 150면 이하 | H14: 3.43
E15: B4 초과 A3 이하 도서 | F15: 권당 250면 초과 | H15: 2.31
F16: 권당 151면~250면 이하 | H16: 2.84
F17: 권당 150면 이하 | H17: 4.09
A18: A1-3 | B18: 낱장스캔 | C18: 1638 | D18: 자료입력원 | E18: 보통(취급난이도) | F18: 균일(크기) | G18: 배지없음 | H18: 1
F19: 비균일(크기) | G19: 배지없음 | H19: 3.54
E20: 복잡(취급난이도) | F20: 균일(크기) | G20: 배지없음 | H20: 1.13
G21: 배지필요 | H21: 1.6
F22: 비균일(크기) | G22: 배지필요 | H22: 6.14
G23: 배지필요 | H23: 8.72
D24: 초급기술자 | E24: 매우복잡(취급난이도) | F24: 균일(크기) | G24: 배지없음 | H24: 3.93
G25: 배지필요 | H25: 5.58
F26: 비균일(크기) | G26: 배지없음 | H26: 8.77
G27: 배지필요 | H27: 12.45
A28: A1-4 | B28: 이미지 보정 및 검증 | C28: 2216 | D28: 자료입력원 | E28: 보통 | F28: 흑백 | H28: 1 | I28: 1.5 | J28: 2
F29: 컬러 | H29: 2.31 | I29: 3.47 | J29: 4.62
E30: 복잡 | H30: 9.58 | I30: 14.37 | J30: 19.16
E31: 매우복잡 | H31: 14.16 | I31: 21.24 | J31: 28.32
A32: A1-5 | B32: 메타데이터 추출, 입력 및 검증 | C32: 50 | D32: 자료입력원 | E32: 단순 | F32: 한국어 | H32: 0.62 | I32: 0.82 | J32: 1
F33: 한자 | H33: 1.24 | I33: 1.64 | J33: 2
F34: 영어 | H34: 1.24 | I34: 1.64 | J34: 2
F35: 일본어 | H35: 1.24 | I35: 1.64 | J35: 2
F36: 중국어 | H36: 1.86 | I36: 2.46 | J36: 2.99
F37: 기타외국어 | H37: 1.86 | I37: 2.46 | J37: 2.99
E38: 보통 | F38: 한국어 | H38: 1 | I38: 1.32 | J38: 1.61
F39: 한자 | H39: 2 | I39: 2.64 | J39: 3.22
F40: 영어 | H40: 2 | I40: 2.64 | J40: 3.22
F41: 일본어 | H41: 2 | I41: 2.64 | J41: 3.22
...

Sheet 표-A2
A1: [현대비도서편철문서 작업그룹] 작업요소별 보정계수
A2: 순번 | B2: 작업요소 | C2: 일일작업량 | D2: 보정요소 | F2: 보정계수
A3: A2-1 | B3: 자료반출 및 문서정리 | C3: 2233 | D3: 보통 | F3: 1
D4: 복잡 | F4: 2.84
A5: A2-2 | B5: 문서색인추출, 입력, 연결 및 검증 | C5: 224 | D5: 보통 | E5: 한국어 | F5: 1
E6: 한자 | F6: 2
E7: 영어 | F7: 2
E8: 일본어 | F8: 2
E9: 중국어 | F9: 3
E10: 기타외국어 | F10: 3
D11: 복잡 | E11: 한국어 | F11: 1.5
E12: 한자 | F12: 3
E13: 영어 | F13: 3
E14: 일본어 | F14: 3
E15: 중국어 | F15: 4.5
E16: 기타외국어 | F16: 4.5
A17: A2-3 | B17: 스캔 및 점검 | C17: 2180 | D17: 일반문서(기울기 등 단순보정) | F17: 1
D18: 일반문서(잡티, 펀치홀 제거 등) | F18: 1.32
D19: 복잡(도면) | F19: 6.75
A20: A2-4 | B20: 문서최종점검 | C20: 546 | D20: 해당 사항 없음 | F20: 1
A21: A2-5 | B21: 재편철 및 서가배치 | C21: 10797 | D21: 보통 | F21: 1
D22: 복잡 | F22: 5.24
B24: <세부 작업요소별 일일작업량>
B25: 작업요소 | C25: 세부 작업요소 | D25: 세부 작업요소별 일일작업량
D26: 보통 | E26: 복잡
B27: 자료반출 및 문서정리 | C27: 자료반출 및 관리 | D27: 17201 | E27: 6062
C28: 해철 | D28: 14894 | E28: 5249
C29: 건분류 | D29: 5416 | E29: 1909
C30: 면표시 | D30: 10832 | E30: 3818
C31: 정리검증 | D31: 21935 | E31: 7731
B32: 문서색인추출, 입력, 연결 및 검증 | C32: 색인입력 | D32: 314 | E32: 208
C33: 색인검증 | D33: 779 | E33: 517
B34: 문서최종점검 | C34: 최종점검 | D34: 546 | E34: 546
B35: 재편철 및 서가배치 | C35: 재편철 | D35: 15965 | E35: 3049
C36: 보존상자 | D36: 532675 | E36: 101730
C37: 서가배치 | D37: 35581 | E37: 6795

Sheet 표-A3
A1: [고전적자료 작업그룹] 작업요소별 보정계수
A3: 순번 | B3: 작업요소 | C3: 1일 작업량 | D3: 작업자등급 | E3: 보정요소 | I3: 보정계수(검증횟수)
I4: 1회 | J4: 2회 | K4: 3회
A5: A3-1 | B5: 자료 반출입 및 관리 | C5: 9 | D5: 자료입력원 | E5: 자료집중 | G5: 목록 보유 | I5: 1
G6: 목록 미보유 | I6: 2.15
E7: 자료분산 | G7: 목록 보유 | I7: 3.78
G8: 목록 미보유 | I8: 6.68
A9: A3-2 | B9: 일괄스캔 | C9: 7554 | D9: 자료입력원 | E9: A4 이하 | G9: 권당 250면 초과 | I9: 1
G10: 권당 151면~250면 이하 | I10: 1.24
G11: 권당 150면 이하 | I11: 1.89
E12: A4초과 B4이하 도서 | G12: 권당 250면 초과 | I12: 1.89
G13: 권당 151면~250면 이하 | I13: 2.34
G14: 권당 150면 이하 | I14: 3.43
E15: B4 초과 A3 이하 도서 | G15: 권당 250면 초과 | I15: 2.31
G16: 권당 151면~250면 이하 | I16: 2.84
G17: 권당 150면 이하 | I17: 4.09
A18: A3-3 | B18: 낱장스캔 | C18: 1638 | D18: 자료입력원 | E18: 보통 (취급난이도) | G18: 균일(크기) | H18: 배지없음 | I18: 1
G19: 비균일(크기) | H19: 배지없음 | I19: 3.54
E20: 복잡 (취급난이도) | G20: 균일(크기) | H20: 배지없음 | I20: 1.13
H21: 배지필요 | I21: 1.6
G22: 비균일(크기) | H22: 배지필요 | I22: 6.14
H23: 배지필요 | I23: 8.72
D24: 초급기술자 | E24: 매우복잡 (취급난이도) | G24: 균일(크기) | H24: 배지없음 | I24: 3.93
H25: 배지필요 | I25: 5.58
G26: 비균일(크기) | H26: 배지없음 | I26: 8.77
H27: 배지필요 | I27: 12.45
A28: A3-4 | B28: 이미지 보정 및 검증 | C28: 2216 | D28: 자료입력원 | E28: 보통 | G28: 흑백 | I28: 1 | J28: 1.84 | K28: 2.57
G29: 컬러 | I29: 2.31 | J29: 4.25 | K29: 5.94
E30: 복잡 | I30: 9.58 | J30: 17.63 | K30: 24.62
E31: 매우복잡 | I31: 14.16 | J31: 26.05 | K31: 36.39
A32: A3-5 | B32: 메타데이터 추출, 입력 및 검증 | C32: 39 | D32: 전문작업자 (나) | E32: 단순 | I32: 0.6 | J32: 0.79 | K32: 0.97
E33: 보통 | I33: 1 | J33: 1.32 | K33: 1.61
E34: 복잡 | I34: 1.7 | J34: 2.24 | K34: 2.74
A35: A3-6 | B35: 목차입력 | C35: 3031 | D35: 자료입력원 | E35: 해당 사항 없음 | I35: 1
A36: A3-7 | B36: 목차링크 | C36: 842 | D36: 자료입력원 | E36: 해당 사항 없음 | I36: 1
A37: A3-8 | B37: 목차검증 | C37: 2441 | D37: 자료입력원 | E37: 해당 사항 없음 | I37: 1 | J37: 1.97 | K37: 2.92
A38: A3-9 | B38: 원문입력 | C38: 7353 | D38: 자료입력원 | E38: 인쇄 상태 - 보통 | F38: 해서체 | G38: 5%미만의 신출자/이체자 처리 | I38: 1
G39: 5%이상의 신출자/이체자 처리 | I39: 1.32
F40: 행서체 | G40: 5%미만의 신출자/이체자 처리 | I40: 1.53
G41: 5%이상의 신출자/이체자 처리 | I41: 2.02
...

Sheet 표-A4
A1: [동영상 작업그룹] 작업요소별 보정계수
A2: 순번 | B2: 작업요소 | C2: 1일작업량 | D2: 보정요소 | G2: 보정계수 | H2: 작업자등급
A4: A4-1 | B4: 자료관리 | C4: 60 | D4: - | G4: 1 | H4: 초급기술자
A5: A4-2 | B5: 캡처링 | C5: 7.22 | D5: - | G5: 1 | H5: 초급기술자
A6: A4-3 | B6: 편집 | C6: 74.81 | D6: ① 편집 난이도 | E6: 단순 | G6: 1 | H6: 초급기술자
E7: 복잡 | G7: 10.27
A8: A4-4 | B8: 렌더링 | C8: 10.04 | D8: - | G8: 1 | H8: 초급기술자
A9: A4-5 | B9: 점검 | C9: 10.81 | D9: - | G9: 1 | H9: 초급기술자
A10: A4-6 | B10: 파일변환 | C10: 7.66편/일 | D10: ① 매체유형 | E10: DV, SD | G10: 1 | H10: 초급기술자
E11: HD | G11: 3.72

Sheet 표-A5
A1: [음성 작업그룹] 작업요소별 보정계수
A2: 순번 | B2: 작업요소 | C2: 1일작업량 | D2: 보정요소 | G2: 보정계수 | H2: 작업자등급
A4: A5-1 | B4: 자료관리 | C4: 60 | D4: - | G4: 1 | H4: 초급기술자
A5: A5-2 | B5: 캡처링 | C5: 7.11 | D5: ① 매체유형 | E5: 아날로그 | G5: 1 | H5: 초급기술자
E6: 디지털 | G6: 0.07
A7: A5-3 | B7: 편집 | C7: 6.68 | D7: - | G7: 1 | H7: 초급기술자
A8: A5-4 | B8: 점검 | C8: 7.46 | D8: - | G8: 1 | H8: 초급기술자

Sheet 표-B1
A1: [전문 작업그룹] 작업요소별 보정계수
A2: 순번 | B2: 작업요소 | C2: 1일작업량 | D2: 보정요소 | F2: 보정계수 | G2: 작업자등급
A4: B1-1 | B4: 기사제목 생성 | C4: 43 | D4: 대본난이도 (기사분절의 명시성) | E4: 기사분절이 명시적 | F4: 1 | G4: 전문작업자(나)
E5: 기사분절이 비명시적 | F5: 1.54 | G5: 전문작업자(가)
A6: B1-2 | B6: 색인어 생성 | C6: 484 | D6: 디지털 텍스트유무 (자료의 형태) | E6: 有 | F6: 1 | G6: 전문작업자(나)
E7: 無 | F7: 2.18 | G7: 전문작업자(나)
B8: 해제생성 | C8: 11 | D8: - | F8: 1 | G8: 전문작업자(가)
A9: B1-3 | B9: 탈초 (서체자료 판독) | C9: 1738 | D9: 대본난이도 (서체난이도) | E9: 초서체 | F9: 1 | G9: 전문작업자(나)
E10: 어려운 초서체 | F10: 1.31 | G10: 전문작업자(가)
B11: 표점 | C11: 6568 | D11: - | F11: 1 | G11: 전문작업자(가)
B12: 주석 | C12: 32 | D12: - | F12: 1 | G12: 전문작업자(나)
A13: B1-4 | B13: 원문 오류수정 | C13: 11875 | D13: - | F13: 1 | G13: 전문작업자(나)

Sheet 표-인건비
A1: 데이터베이스 구축 인건비 등급 적용 기준 | H1: <기획재정부 계약예규> 中
H2: □ (별표 5) 학술연구용역인건비기준단가(’21)
A3: 구분 | B3: 등급 | C3: DB대가 대응등급 | D3: 일임금(원/일) | E3: 비고 | H3: 등 급 | I3: 월 임금(’20) | J3: 월 임금(’21)
A4: 학술연구용역 인건비 기준단가 | B4: 연구원 | C4: 전문작업자(가) | D4: =B19 -> 320539.77 | E4: ※ 전문공정의 작업자 등급은 전문작업자(‘가’급), 전문작업자(‘나’급), 전문작업자(‘다’급)으로 나눈다. 전문작업자(‘가’급)는 공정 전문가 경력이 6년이상인 작업자, 전문작업자(‘나’급)은 3년이상 6년 미만인 작업자, 전문작업자(‘다’급)는 3년미만의 작업자를 말한다. ※ 본 인건비 기준은 학술연구용역 인건비 단가를 준용하며, 1개월에 22일, 용역 참여율 100%를 기준으로 하여 월 단가를 일 임금으로 변환하여 적용한다. *기획재정부 계약예규 | H4: 책임연구원 | I4: 3229730 | J4: 3245879
B5: 연구보조원 | C5: 전문작업자(나) | D5: =C19 -> 214269.93 | H5: 연구원 | I5: 2476514 | J5: 2488897
B6: 보조원 | C6: 전문작업자(다) | D6: =D19 -> 160707.95 | H6: 연구보조원 | I6: 1655466 | J6: 1663743
A7: * 학술연구용역 인건비 기준단가는 2021년도 버전임 ( 2021년 1월 1일부터 적용) | H7: 보조원 | I7: 1241642 | J7: 1247850
H8: 주1) 본 인건비 기준단가는 1개월을 22일로 하여 용역 참여율 50%로 산정한 것이며, 용역 참여율을 달리하는 경우에는 기준단가를 증감시킬 수 있다.
A9: ※ 인건비 단가 적용시 유의사항 | H9: ※ 상기단가는 2021년도 기준단가로 계약예규 「예정가격 작성기준」 제26조 제2항에 따라 소비자물가 상승률(2020년 0.5%)을 반영한 단가이며, 소수점 첫째자리에서 반올림한 금액임
A10: ▶ 인건비는 다음 각 호의 합의로 한다.
A11: 1. 데이터베이스 구축비에 의해 산정된 데이터베이스 구축 작업요소 수행비용
A12: 2. 연간 기본급의 400%를 초과하지 않는 범위의 상여금 | H12: <관련 규정>
A13: 3. 「근로기준법」에서 인정하는 범위를 초과하지 않는 범위의 퇴직급여충당금 | H13: 제26조(인건비) ②이 예규 시행일이 속하는 년도의 다음 년도부터는 매년 전년도 소비자물가 상승률만큼 인상한 단가를 기준으로 한다.
A15: 항목 | B15: 전문작업자 (가) | C15: 전문작업자 (나) | D15: 전문작업자 (다) | E15: (적용요율) | F15: 비고
A16: 기본급 | B16: =J5/11 -> 226263.36 | C16: =J6/11 -> 151249.36 | D16: =J7/11 -> 113440.91 | E16: - | F16: (2021. 1. 1. 적용 단가)
A17: 상여금 | B17: =B16*E17/12 -> 75421.121 | C17: =C16*E17/12 -> 50416.455 | D17: =D16*E17/12 -> 37813.636 | E17: 4 | F17: 연간 상여금, 0~400%
A18: 퇴직급여충당금 | B18: =B16*E18/12 -> 18855.28 | C18: =C16*E18/12 -> 12604.114 | D18: =D16*E18/12 -> 9453.4091 | E18: 1 | F18: 퇴직급여충당금, 0~100%
A19: 소계 | B19: =SUM(B16:B18) -> 320539.77 | C19: =SUM(C16:C18) -> 214269.93 | D19: =SUM(D16:D18) -> 160707.95
